BEGIN:VCALENDAR
VERSION:2.0
PRODID:-//Sporting JAX - ECPv6.15.17.1//NONSGML v1.0//EN
CALSCALE:GREGORIAN
METHOD:PUBLISH
X-WR-CALNAME:Sporting JAX
X-ORIGINAL-URL:https://www.sportingjax.com
X-WR-CALDESC:Events for Sporting JAX
REFRESH-INTERVAL;VALUE=DURATION:PT1H
X-Robots-Tag:noindex
X-PUBLISHED-TTL:PT1H
BEGIN:VTIMEZONE
TZID:Atlantic/South_Georgia
BEGIN:STANDARD
TZOFFSETFROM:-0200
TZOFFSETTO:-0200
TZNAME:-02
DTSTART:20210101T000000
END:STANDARD
END:VTIMEZONE
BEGIN:VEVENT
DTSTART;TZID=Atlantic/South_Georgia:20221203T083000
DTEND;TZID=Atlantic/South_Georgia:20221203T120000
DTSTAMP:20260421T090626
CREATED:20221202T015328Z
LAST-MODIFIED:20221202T015628Z
UID:564-1670056200-1670068800@www.sportingjax.com
SUMMARY:World Cup Watch Party - USA v Netherlands - Culhane's Irish Pub\, Tinseltown
DESCRIPTION:Come join us at Culhane’s Irish Pub for a breakfast Watch Party as we back the USMNT vs Netherlands in the World Cup Round of 16.
URL:https://www.sportingjax.com/event/world-cup-watch-party-usa-v-netherlands-culhanes-irish-pub-tinseltown/
LOCATION:Culhane’s Irish Pub\, 9720 Deer Lake Ct\,\, Jacksonville\, FL 32246\, 32246\, United States
END:VEVENT
END:VCALENDAR