BEGIN:VCALENDAR
VERSION:2.0
PRODID:-//Sporting JAX - ECPv6.15.17.1//NONSGML v1.0//EN
CALSCALE:GREGORIAN
METHOD:PUBLISH
X-WR-CALNAME:Sporting JAX
X-ORIGINAL-URL:https://www.sportingjax.com
X-WR-CALDESC:Events for Sporting JAX
REFRESH-INTERVAL;VALUE=DURATION:PT1H
X-Robots-Tag:noindex
X-PUBLISHED-TTL:PT1H
BEGIN:VTIMEZONE
TZID:America/New_York
BEGIN:DAYLIGHT
TZOFFSETFROM:-0500
TZOFFSETTO:-0400
TZNAME:EDT
DTSTART:20230312T070000
END:DAYLIGHT
BEGIN:STANDARD
TZOFFSETFROM:-0400
TZOFFSETTO:-0500
TZNAME:EST
DTSTART:20231105T060000
END:STANDARD
BEGIN:DAYLIGHT
TZOFFSETFROM:-0500
TZOFFSETTO:-0400
TZNAME:EDT
DTSTART:20240310T070000
END:DAYLIGHT
BEGIN:STANDARD
TZOFFSETFROM:-0400
TZOFFSETTO:-0500
TZNAME:EST
DTSTART:20241103T060000
END:STANDARD
BEGIN:DAYLIGHT
TZOFFSETFROM:-0500
TZOFFSETTO:-0400
TZNAME:EDT
DTSTART:20250309T070000
END:DAYLIGHT
BEGIN:STANDARD
TZOFFSETFROM:-0400
TZOFFSETTO:-0500
TZNAME:EST
DTSTART:20251102T060000
END:STANDARD
END:VTIMEZONE
BEGIN:VEVENT
DTSTART;TZID=America/New_York:20240727T170000
DTEND;TZID=America/New_York:20240727T180000
DTSTAMP:20260425T123050
CREATED:20240628T194315Z
LAST-MODIFIED:20240628T195113Z
UID:1697-1722099600-1722103200@www.sportingjax.com
SUMMARY:Stateside Cup Youth Clinic presented by Sporting JAX and Florida Elite SA
DESCRIPTION:Click Here to Register!
URL:https://www.sportingjax.com/event/stateside-cup-youth-clinic-presented-by-sporting-jax-and-florida-elite-sa/
LOCATION:FL
ATTACH;FMTTYPE=image/png:https://www.sportingjax.com/wp-content/uploads/sites/75/2024/06/Stateside-Youth-Clinic-16x9-3.png
END:VEVENT
END:VCALENDAR